{"text_format":"1","workbook":"xlsx","n_sheets":2,"sheets":["Product","Site"],"not_rendered":{"charts":0,"images":0,"macros":1,"external_links":0,"defined_names":0,"comments":1,"pivot_tables":0},"unopened":[],"bounds":{"document_bytes":16777216,"sheet_cells":100000,"rows_first":2000,"rows_last":500,"rows_between":2000,"halvings":0,"cell_chars":16384,"cell_head_chars":4096},"cells_cut":0,"cells_raw":0,"read":"whole","date_system":"1900"}

{"sheet":"Product","index":0,"n_rows":80,"n_cols":14,"rows_kept":80,"cut":false,"hidden":false,"merged":[[1,12,4,12],[10,2,18,2],[42,2,53,2],[6,0,9,0],[10,0,18,0],[19,0,41,0],[42,0,53,0],[1,0,5,0],[1,2,5,2],[6,2,9,2],[54,0,61,0],[54,2,61,2],[75,0,79,0],[75,2,79,2],[69,0,74,0],[62,0,68,0],[62,2,68,2]]}
["Product","Product Name","Razer","Price USDT","Price Toman","Profit","Sell Toman","Sell USDT","Amount Profit","Real Profit","PSD"]
["UC LOGIN","660یوسی لاگین","None",7.8,{"$f":"D2*$N$6","v":1365000},0.05,{"$f":"ROUND(((E2*F2)+E2),-3)","v":1433000},{"$f":"G2/$N$6","v":8.1885714285714286},{"$f":"G2-E2","v":68000},{"$f":"I2/E2","v":4.981684981684982E-2},{"$f":"TEXT(G2,\"#,### \")","v":"1,433,000 "},null,"🗓Date","1404/11/15"]
[null,"1320یوسی لاگین",null,15.6,2730000,0.05,{"$f":"ROUND(((E3*F3)+E3),-3)","v":2867000},16.382857142857144,{"$f":"G3-E3","v":137000},{"$f":"I3/E3","v":5.0183150183150185E-2},{"$f":"TEXT(G3,\"#,### \")","v":"2,867,000 "}]
[null,"1800یوسی لاگین",null,18.5,3237500,0.05,{"$f":"ROUND(((E4*F4)+E4),-3)","v":3399000},19.422857142857143,{"$f":"G4-E4","v":161500},{"$f":"I4/E4","v":4.9884169884169882E-2},{"$f":"TEXT(G4,\"#,### \")","v":"3,399,000 "}]
[null,"3850یوسی لاگین",null,36,6300000,0.05,6615000,37.799999999999997,315000,0.05,"6,615,000 ",null,null,"2026-02-04"]
[null,"8100یوسی لاگین",null,76,13300000,0.05,13965000,79.8,665000,0.05,"13,965,000 ",null,"💲Price USDT",175000]
["Pack","پک یک دلاری","None",1,175000,0.1,193000,1.1028571428571428,18000,0.10285714285714286,"193,000 ",null,"🐍Price Razer",{"$f":"N6*N9","v":148750}]
[null,"پک سه دلاری",null,2.7,472500.00000000006,0.1,520000,2.9714285714285715,47499.999999999942,0.1005291005291004,"520,000 ",null,"🐍Razer Ratio",85]
[null,"پک پنج دلاری",null,4.5,787500,0.1,866000,4.9485714285714284,78500,9.9682539682539678E-2,"866,000 ",null,"Ratio/100",{"$f":"N8/100","v":0.85}]
[null,"متیک فورج",null,2.8,489999.99999999994,0.1,539000,3.08,49000.000000000058,0.10000000000000013,"539,000 "]
["Prime","پرایم 1 ماه","None",1,175000,0.1,193000,1.1028571428571428,18000,0.10285714285714286,"193,000 "]
[null,"پرایم 3 ماه",null,2.7,472500.00000000006,0.1,520000,2.9714285714285715,47499.999999999942,0.1005291005291004,"520,000 "]
[null,"پرایم 6 ماه",null,5.3,927500,0.1,1020000,5.8285714285714283,92500,9.9730458221024262E-2,"1,020,000 "]
[null,"پرایم 12 ماه",null,10.5,1837500,0.1,2021000,11.548571428571428,183500,9.9863945578231292E-2,"2,021,000 "]
[null,"پرایم + پرایم پلاس",null,{"$f":"D11+D16","v":9.5},1662500,0.1,1829000,10.451428571428572,166500,0.10015037593984963,"1,829,000 "]
[null,"پرایم پلاس 1 ماه",null,8.5,1487500,0.1,1636000,9.3485714285714288,148500,9.9831932773109242E-2,"1,636,000 "]
[null,"پرایم پلاس 3 ماه",null,25.2,4410000,0.1,4851000,27.72,441000,0.1,"4,851,000 "]
[null,"پرایم پلاس 6 ماه",null,50,8750000,0.1,9625000,55,875000,0.1,"9,625,000 "]
[null,"پرایم پلاس 12 ماه",null,102,17850000,0.1,19635000,112.2,1785000,0.1,"19,635,000 "]
["UC","60یوسی",1,{"$f":"C20*$N$9","v":0.85},148750,0.11,165000,0.94285714285714284,16250,0.1092436974789916,"165,000 "]
[null,"120یوسی",2,1.7,297500,0.1,327000,1.8685714285714285,29500,9.9159663865546213E-2,"327,000 "]
[null,"180یوسی",3,2.5499999999999998,446249.99999999994,0.1,491000,2.8057142857142856,44750.000000000058,0.10028011204481807,"491,000 "]
[null,"240یوسی",4,3.4,595000,0.09,649000,3.7085714285714286,54000,9.07563025210084E-2,"649,000 "]
[null,"325یوسی",5,4.25,743750,0.1,818000,4.6742857142857144,74250,9.9831932773109242E-2,"818,000 "]
[null,"385یوسی",{"$f":"C24+C20","v":6},5.0999999999999996,892499.99999999988,0.09,973000,5.56,80500.000000000116,9.0196078431372687E-2,"973,000 "]
[null,"445یوسی",{"$f":"C24+C21","v":7},5.95,1041250,0.09,1135000,6.4857142857142858,93750,9.003601440576231E-2,"1,135,000 "]
[null,"660یوسی",10,8.5,1487500,0.1,1636000,9.3485714285714288,148500,9.9831932773109242E-2,"1,636,000 "]
[null,"720یوسی",{"$f":"C27+C20","v":11},9.35,1636250,0.09,1784000,10.194285714285714,147750,9.029793735676088E-2,"1,784,000 "]
[null,"780یوسی",{"$f":"C27+C21","v":12},10.199999999999999,{"$f":"D29*$N$6","v":1784999.9999999998},0.09,1946000,11.12,161000.00000000023,9.0196078431372687E-2,"1,946,000 "]
[null,"840یوسی",13,11.049999999999999,1933749.9999999998,0.09,2108000,12.045714285714286,174250.00000000023,9.0109890109890248E-2,"2,108,000 "]
[null,"985یوسی",{"$f":"C27+C24","v":15},12.75,2231250,0.09,2432000,13.897142857142857,200750,8.997198879551821E-2,"2,432,000 "]
[null,"1320یوسی",{"$f":"C27+C27","v":20},17,2975000,0.09,3243000,18.53142857142857,268000,9.0084033613445372E-2,"3,243,000 "]
[null,"1800یوسی",25,21.25,3718750,0.08,4016000,22.94857142857143,297250,7.9932773109243696E-2,"4,016,000 "]
[null,"1920یوسی",{"$f":"C33+C21","v":27},22.95,4016250,7.9000000000000001E-2,4334000,{"$f":"G34/$N$6","v":24.765714285714285},317750,7.9116090880796769E-2,"4,334,000 "]
[null,"2460یوسی",{"$f":"C33+C27","v":35},29.75,5206250,7.8E-2,5612000,32.068571428571431,405750,7.7935174069627855E-2,"5,612,000 "]
[null,"3850یوسی",50,42.5,7437500,0.08,8033000,45.902857142857144,595500,8.0067226890756307E-2,"8,033,000 "]
[null,"5650یوسی",{"$f":"C36+C33","v":75},63.75,11156250,7.4999999999999997E-2,11993000,68.531428571428577,836750,7.5002801120448173E-2,"11,993,000 "]
[null,"8100یوسی",100,84,14700000,0.08,15876000,90.72,1176000,0.08,{"$f":"TEXT(G38,\"#,### \")","v":"15,876,000 "}]
[null,"11950یوسی",{"$f":"C38+C36","v":150},127.5,22312500,7.0000000000000007E-2,23874000,136.42285714285714,1561500,6.9983193277310923E-2,{"$f":"TEXT(G39,\"#,### \")","v":"23,874,000 "}]
[null,"16200یوسی",{"$f":"C38*2","v":200},170,29750000,7.0000000000000007E-2,31833000,181.90285714285713,2083000,7.0016806722689076E-2,{"$f":"TEXT(G40,\"#,### \")","v":"31,833,000 "}]
[null,"24300یوسی",{"$f":"C38*3","v":300},255,44625000,7.0000000000000007E-2,47749000,272.85142857142858,3124000,7.0005602240896359E-2,"47,749,000 "]
[null,"32400یوسی",{"$f":"C38*4","v":400},340,59500000,7.0000000000000007E-2,63665000,363.8,4165000,7.0000000000000007E-2,"63,665,000 "]
["CP","80سی پی","None",0.8,140000,0.1,154000,0.88,{"$f":"G43-E43","v":14000},0.1,{"$f":"TEXT(G43,\"#,### \")","v":"154,000 "}]
[null,"160سی پی",null,{"$f":"D43*2","v":1.6},280000,0.1,308000,1.76,28000,0.1,{"$f":"TEXT(G44,\"#,### \")","v":"308,000 "}]
[null,"320سی پی",null,{"$f":"D43*4","v":3.2},560000,0.1,616000,3.52,56000,0.1,"616,000 "]
[null,"420سی پی",null,4.5,787500,0.1,866000,4.9485714285714284,78500,9.9682539682539678E-2,"866,000 "]
[null,"880سی پی",null,8.6,1505000,0.1,1656000,9.4628571428571426,151000,0.10033222591362126,"1,656,000 "]
[null,"1760سی پی",null,{"$f":"D47*2","v":17.2},3010000,0.1,3311000,18.920000000000002,301000,0.1,"3,311,000 "]
[null,"2400سی پی",null,21.5,3762500,0.1,4139000,23.651428571428571,376500,0.10006644518272426,"4,139,000 "]
[null,"2820سی پی",null,{"$f":"D49+D46","v":26},4550000,0.1,5005000,28.6,455000,0.1,"5,005,000 "]
[null,"3280سی پی",null,{"$f":"D49+D47","v":30.1},5267500,0.1,5794000,33.10857142857143,526500,9.9952539155196959E-2,"5,794,000 "]
[null,"4160سی پی",null,{"$f":"D51+D47","v":38.700000000000003},6772500.0000000009,0.1,7450000,42.571428571428569,677499.99999999907,0.10003691399040221,"7,450,000 "]
[null,"5000سی پی",null,42.5,7437500,0.1,8181000,46.748571428571431,743500,9.9966386554621853E-2,"8,181,000 "]
[null,"10800سی پی",null,81.5,14262500,0.1,15689000,89.651428571428568,1426500,0.10001752848378616,"15,689,000 "]
["GEM Clash of Clans",80,"None",1.1000000000000001,{"$f":"D55*$N$6","v":192500.00000000003},0.1,{"$f":"ROUND(((E55*F55)+E55),-3)","v":212000},{"$f":"G55/$N$6","v":1.2114285714285715},19499.999999999971,{"$f":"I55/E55","v":0.10129870129870114},"212,000 "]
[null,500,null,4.8,840000,0.1,924000,5.28,84000,0.1,"924,000 "]
[null,1200,null,9.1,1592500,0.1,1752000,10.011428571428571,159500,0.10015698587127159,"1,752,000 "]
[null,2500,null,18.399999999999999,3219999.9999999995,0.1,3542000,20.239999999999998,322000.00000000047,0.10000000000000016,"3,542,000 "]
[null,6500,null,45.2,7910000.0000000009,0.1,8701000,49.72,790999.99999999907,9.9999999999999867E-2,"8,701,000 "]
[null,14000,null,89.7,15697500,0.1,17267000,98.668571428571425,1569500,9.9984073897117373E-2,"17,267,000 "]
[null,"Gold Pass 3$",null,3,525000,0.1,578000,3.3028571428571429,53000,0.10095238095238095,"578,000 "]
[null,"Gold Pass 7$",null,6.8,1190000,0.1,1309000,7.48,119000,0.1,"1,309,000 "]
["Gift Card PS","گیفت کارت 10 دلاری","None",9.0640000000000001,{"$f":"D63*$N$6","v":1586200},0.1,1745000,9.9714285714285715,158800,0.10011347875425546,"1,745,000 "]
[null,"گیفت کارت 20 دلاری",null,18.128,3172400,0.1,3490000,19.942857142857143,317600,0.10011347875425546,"3,490,000 "]
[null,"گیفت کارت 50 دلاری",null,45.32,7931000,0.1,8724000,49.851428571428571,793000,9.9987391249527172E-2,"8,724,000 "]
[null,"گیفت کارت 100 دلاری",null,90.64,15862000,0.1,17448000,99.702857142857141,1586000,9.9987391249527172E-2,"17,448,000 "]
[null,"گیفت کارت 120 دلاری",null,108.768,19034400,0.1,20938000,119.64571428571429,1903600,0.10000840583364855,"20,938,000 "]
[null,"گیفت کارت 160 دلاری",null,145.024,25379200,0.1,27917000,159.52571428571429,2537800,9.9995271718572684E-2,"27,917,000 "]
[null,"گیفت کارت 200 دلاری",null,181.28,31724000,0.1,34896000,199.40571428571428,{"$f":"G69-E69","v":3172000},9.9987391249527172E-2,"34,896,000 "]
["Redeem Code","60یوسی",{"$f":"C20","v":1},{"$f":"C70*$N$9","v":0.85},{"$f":"D70*$N$6","v":148750},1000,{"$f":"ROUND(((E70*J70)+E70),-3)","v":164000},{"$f":"G70/$N$6","v":0.93714285714285717},{"$f":"G70-E70","v":15250},{"$f":"((I20-F70)/E70)","v":0.10252100840336134},{"$f":"TEXT(G70,\"#,### \")","v":"164,000 "}]
[null,"325یوسی",{"$f":"C24","v":5},4.25,{"$f":"D71*$N$6","v":743750},3000,815000,4.6571428571428575,{"$f":"G71-E71","v":71250},{"$f":"((I24-F71)/E71)","v":9.5798319327731099E-2},"815,000 "]
[null,"660یوسی",{"$f":"C27","v":10},8.5,1487500,6000,1630000,9.3142857142857149,142500,{"$f":"((I27-F72)/E72)","v":9.5798319327731099E-2},"1,630,000 "]
[null,"1800یوسی",{"$f":"C33","v":25},21.25,3718750,5000,4011000,22.92,292250,{"$f":"((I33-F73)/E73)","v":7.8588235294117653E-2},"4,011,000 "]
[null,"3850یوسی",{"$f":"C36","v":50},42.5,7437500,7000,8026000,45.862857142857145,588500,{"$f":"((I36-F74)/E74)","v":7.912605042016807E-2},"8,026,000 "]
[null,"8100یوسی",{"$f":"C38","v":100},85,14875000,9000,16042000,91.668571428571425,1167000,{"$f":"((I38-F75)/E75)","v":7.8453781512605042E-2},"16,042,000 "]
["یوسی افر","از 2300 تا 3000 یوسی","None",25.5,{"$f":"D76*$N$6","v":4462500},0.05,{"$f":"ROUND(((E76*F76)+E76),-3)","v":4686000},{"$f":"G76/$N$6","v":26.777142857142856},{"$f":"G76-E76","v":223500},{"$f":"I76/E76","v":5.0084033613445378E-2},{"$f":"TEXT(G76,\"#,### \")","v":"4,686,000 "}]
[null,"از 4500 تا 6500 یوسی",null,47,{"$f":"D77*$N$6","v":8225000},0.05,{"$f":"ROUND(((E77*F77)+E77),-3)","v":8636000},{"$f":"G77/$N$6","v":49.348571428571425},{"$f":"G77-E77","v":411000},{"$f":"I77/E77","v":4.9969604863221884E-2},{"$f":"TEXT(G77,\"#,### \")","v":"8,636,000 "}]
[null,"از 9500 تا 15000 یوسی",null,89,15575000,0.05,16354000,93.451428571428565,779000,5.0016051364365974E-2,"16,354,000 "]
[null,"از 18000 تا 23000 یوسی",null,177,30975000,0.05,32524000,185.85142857142858,1549000,5.0008071025020175E-2,"32,524,000 "]
[null,"از 26000 تا 30000 یوسی",null,262,{"$f":"D80*$N$6","v":45850000},0.05,48143000,{"$f":"G80/$N$6","v":275.10285714285715},2293000,5.0010905125408942E-2,"48,143,000 "]

{"sheet":"Site","index":1,"n_rows":79,"n_cols":6,"rows_kept":79,"cut":false,"hidden":false,"merged":[]}
["شناسه","نام","منتشر شده","در انبار؟","قیمت فروش ویژه","قیمت عادی"]
[10246,"یوسی لاگین 600",1,1,null,{"$f":"Product!G2","v":1433000}]
[10247,"یوسی لاگین 1320",1,1,null,{"$f":"Product!G3","v":2867000}]
[8809,"یوسی لاگین 1800",1,1,null,{"$f":"Product!$G$4","v":3399000}]
[3766,"یوسی لاگین 3850",1,1,null,{"$f":"Product!$G$5","v":6615000}]
[154033,"یوسی لاگین 8100",1,1,null,{"$f":"Product!$G$6","v":13965000}]
[10249,"پک 1 دلاری",1,1,null,{"$f":"Product!$G$7","v":193000}]
[10250,"پک 3 دلاری",1,1,null,{"$f":"Product!$G$8","v":520000}]
[24422,"پک 5 دلاری",1,1,null,{"$f":"Product!$G$9","v":866000}]
[38033,"میتیک فورج",1,1,null,{"$f":"Product!$G$10","v":539000}]
[24188,"پرایم ماهانه",1,1,null,{"$f":"Product!$G$11","v":193000}]
[154029,"پرایم 3 ماهه",1,1,null,{"$f":"Product!$G$12","v":520000}]
[57530,"پرایم 6 ماهه",1,1,null,{"$f":"Product!$G$13","v":1020000}]
[57531,"پرایم 12 ماهه",1,1,null,{"$f":"Product!$G$14","v":2021000}]
[38031,"پرایم+پرایم پلاس",1,1,null,{"$f":"Product!$G$15","v":1829000}]
[3764,"پرایم پلاس",1,1,null,{"$f":"Product!$G$16","v":1636000}]
[41094,"پرایم پلاس 3 ماهه",1,1,null,{"$f":"Product!$G$17","v":4851000}]
[41095,"پرایم پلاس 6 ماهه",1,1,null,{"$f":"Product!$G$18","v":9625000}]
[41096,"پرایم پلاس 12 ماهه",1,1,null,{"$f":"Product!$G$19","v":19635000}]
[73,"60 یوسی",1,1,null,{"$f":"Product!$G$20","v":165000}]
[82,"120 یوسی",1,1,null,{"$f":"Product!$G$21","v":327000}]
[83,"180 یوسی",1,1,null,{"$f":"Product!$G$22","v":491000}]
[84,"240 یوسی",1,1,null,{"$f":"Product!$G$23","v":649000}]
[85,"325 یوسی",1,1,null,{"$f":"Product!$G$24","v":818000}]
[86,"385 یوسی",1,1,null,{"$f":"Product!$G$25","v":973000}]
[10433,"445 یوسی",1,1,null,{"$f":"Product!$G$26","v":1135000}]
[104,"660 یوسی",1,1,null,{"$f":"Product!$G$27","v":1636000}]
[103,"720 یوسی",1,1,null,{"$f":"Product!$G$28","v":1784000}]
[105,"780 یوسی",1,1,null,{"$f":"Product!$G$29","v":1946000}]
[107,"840 یوسی",1,1,null,{"$f":"Product!$G$30","v":2108000}]
[108,"985 یوسی",1,1,null,{"$f":"Product!$G$31","v":2432000}]
[109,"1320 یوسی",1,1,null,{"$f":"Product!$G$32","v":3243000}]
[110,"1800 یوسی",1,1,null,{"$f":"Product!$G$33","v":4016000}]
[10244,"1920 یوسی",1,1,null,{"$f":"Product!$G$34","v":4334000}]
[10436,"2460 یوسی",1,1,null,{"$f":"Product!$G$35","v":5612000}]
[257,"3850 یوسی",1,1,null,{"$f":"Product!$G$36","v":8033000}]
[7978,"5650 یوسی",1,1,null,{"$f":"Product!$G$37","v":11993000}]
[560,"8100 یوسی",1,1,null,{"$f":"Product!$G$38","v":15876000}]
[159781,"11950 یوسی",1,1,null,{"$f":"Product!$G$39","v":23874000}]
[52114,"16200 یوسی",1,1,null,{"$f":"Product!$G$40","v":31833000}]
[52115,"24300 یوسی",1,1,null,{"$f":"Product!$G$41","v":47749000}]
[52116,"32400 یوسی",1,1,null,{"$f":"Product!$G$42","v":63665000}]
[2726,"80 سی پی",1,1,null,{"$f":"Product!$G$43","v":154000}]
[3778,"160 سی پی",1,1,null,{"$f":"Product!$G$44","v":308000}]
[3786,"320 سی پی",1,1,null,{"$f":"Product!$G$45","v":616000}]
[3787,"420 سی پی",1,1,null,{"$f":"Product!$G$46","v":866000}]
[3789,"880 سی پی",1,1,null,{"$f":"Product!$G$47","v":1656000}]
[3791,"1760 سی پی",1,1,null,{"$f":"Product!$G$48","v":3311000}]
[7783,"2400 سی پی",1,1,null,{"$f":"Product!$G$49","v":4139000}]
[7784,"2820 سی پی",1,1,null,{"$f":"Product!$G$50","v":5005000}]
[7785,"3280 سی پی",1,1,null,{"$f":"Product!$G$51","v":5794000}]
[7786,"4160 سی پی",1,1,null,{"$f":"Product!$G$52","v":7450000}]
[7787,"5000 سی پی",1,1,null,{"$f":"Product!$G$53","v":8181000}]
[10448,"10800 سی پی",1,1,null,{"$f":"Product!$G$54","v":15689000}]
[3837,"80 جم کلش آف کلنز",1,1,null,{"$f":"Product!$G$55","v":212000}]
[3845,"500 جم کلش آف کلنز",1,1,null,{"$f":"Product!$G$56","v":924000}]
[3847,"1200 جم کلش آف کلنز",1,1,null,{"$f":"Product!$G$57","v":1752000}]
[3848,"2500 جم کلش آف کلنز",1,1,null,{"$f":"Product!$G$58","v":3542000}]
[3851,"6500 جم کلش آف کلنز",1,1,null,{"$f":"Product!$G$59","v":8701000}]
[3854,"14000 جم کلش آف کلنز",1,1,null,{"$f":"Product!$G$60","v":17267000}]
[3871,"بلیط طلایی کلش آف کلنز",1,1,null,{"$f":"Product!$G$61","v":578000}]
[70276,"گیفت کارت 10 دلاری",1,1,null,{"$f":"Product!$G$63","v":1745000}]
[37608,"گیفت کارت 20 دلاری",1,1,null,{"$f":"Product!$G$64","v":3490000}]
[37612,"گیفت کارت 50 دلاری",1,1,null,{"$f":"Product!$G$65","v":8724000}]
[37613,"گیفت کارت 100 دلاری",1,1,null,{"$f":"Product!$G$66","v":17448000}]
[37614,"گیفت کارت 120 دلاری",1,1,null,{"$f":"Product!$G$67","v":20938000}]
[37615,"گیفت کارت 160 دلاری",1,1,null,{"$f":"Product!$G$68","v":27917000}]
[37616,"گیفت کارت 200 دلاری",1,1,null,{"$f":"Product!$G$69","v":34896000}]
[92772,"ردیم کد 60 یوسی",1,1,null,{"$f":"Product!$G$70","v":164000}]
[92771,"ردیم کد 325 یوسی",1,1,null,{"$f":"Product!$G$71","v":815000}]
[92770,"ردیم کد 660 یوسی",1,1,null,{"$f":"Product!$G$72","v":1630000}]
[92769,"ردیم کد 1800 یوسی",1,1,null,{"$f":"Product!$G$73","v":4011000}]
[92768,"ردیم کد 3850 یوسی",1,1,null,{"$f":"Product!$G$74","v":8026000}]
[92767,"ردیم کد 8100 یوسی",1,1,null,{"$f":"Product!$G$75","v":16042000}]
[null,"از 2300 تا 3000 یوسی",1,1,null,{"$f":"Product!$G$76","v":4686000}]
[null,"از 4500 تا 6500 یوسی",1,1,null,{"$f":"Product!$G$77","v":8636000}]
[null,"از 9500 تا 15000 یوسی",1,1,null,{"$f":"Product!$G$78","v":16354000}]
[null,"از 18000 تا 23000 یوسی",1,1,null,{"$f":"Product!$G$79","v":32524000}]
[null,"از 26000 تا 30000 یوسی",1,1,null,{"$f":"Product!$G$80","v":48143000}]